BEGIN:VCALENDAR
VERSION:2.0
BEGIN:VEVENT
SUMMARY:Reach out to Idaho APEX Accelerator about Annual Idaho Small Business Symposium
DESCRIPTION:Reach out to them for information about their program.\n\nDescription: Idaho's largest annual government contracting matchmaking and training event, bringing together approximately 50 government agencies and corporate purchasing agents with Idaho small businesses. Held at Boise State University.\n\n- Phone: (208) 615-2246\n- Email: idahoapex@boisestate.edu\n- Source: https://founder-nav.com/programs/recvZ2omgTGhxJQRJ\n\n---\nBrought to you by Founder Nav, helping entrepreneurs navigate the entrepreneurial ecosystem.
DTSTART:20260425T100036Z
DTEND:20260425T103036Z
END:VEVENT
END:VCALENDAR