BEGIN:VCALENDAR
VERSION:2.0
BEGIN:VEVENT
SUMMARY:Reach out to 42angelitos / Angelitos Inc. about Incubator Program
DESCRIPTION:Reach out to them for information about their program.\n\nDescription: Supports entrepreneurs at the super early stage by collaborating as co-founders, leveraging entrepreneurial experience and networks to help disruptive teams with global growth potential launch from Europe to Silicon Valley or into top accelerators.\n\n- Email: contact@42angelitos.com\n- Source: https://founder-nav.com/programs/recvWJnT7VvLRGYQ8\n\n---\nBrought to you by Founder Nav, helping entrepreneurs navigate the entrepreneurial ecosystem.
DTSTART:20260425T100040Z
DTEND:20260425T103040Z
END:VEVENT
END:VCALENDAR