BEGIN:VCALENDAR
VERSION:2.0
BEGIN:VEVENT
SUMMARY:Reach out to Hawaii SBDC - Oʻahu about Workshops & Seminars
DESCRIPTION:Reach out to them for information about their program.\n\nDescription: Free or low-cost business workshops and seminars offered by the Hawaii SBDC Oahu office covering startup essentials, financial management, marketing, government certification, and more. Delivered in person and online for Oahu entrepreneurs and small business owners.\n\n- Phone: (808) 945-1430\n- Email: oahu@hisbdc.org\n- Source: https://founder-nav.com/programs/recvUwNxsycbfBAg0\n\n---\nBrought to you by Founder Nav, helping entrepreneurs navigate the entrepreneurial ecosystem.
DTSTART:20260425T100044Z
DTEND:20260425T103044Z
END:VEVENT
END:VCALENDAR