BEGIN:VCALENDAR
VERSION:2.0
BEGIN:VEVENT
SUMMARY:Reach out to Unknown Hub about Crucible Accelerator
DESCRIPTION:Reach out to them for information about their program.\n\nDescription: Helps startups with commercial-ready solutions enter national security and dual-use markets through mentorship, government customer discovery, SBIR/STTR strategy, and tailored go-to-market support, accelerating growth in both commercial and government sectors.\n\n- Email: start@innovationempire.us\n- Source: https://founder-nav.com/programs/recvQNmkpRGu8JD3L\n\n---\nBrought to you by Founder Nav, helping entrepreneurs navigate the entrepreneurial ecosystem.
DTSTART:20260425T100001Z
DTEND:20260425T103001Z
END:VEVENT
END:VCALENDAR