BEGIN:VCALENDAR
VERSION:2.0
BEGIN:VEVENT
SUMMARY:Reach out to UC San Diego Entrepreneurship Center about UCSD Startup Accelerator
DESCRIPTION:Reach out to them for information about their program.\n\nDescription: Offers mentorship, resources, funding opportunities, and access to a vibrant entrepreneurial community, helping founders accelerate their startups with expert guidance, investor connections, free tools, and exclusive events within a leading university innovation ecosystem.\n\n- Phone: (619) 519-0189\n- Email: email@ucsdec.com\n- Source: https://founder-nav.com/programs/recvHpuHrloyWorHA\n\n---\nBrought to you by Founder Nav, helping entrepreneurs navigate the entrepreneurial ecosystem.
DTSTART:20260425T100043Z
DTEND:20260425T103043Z
END:VEVENT
END:VCALENDAR