BEGIN:VCALENDAR
VERSION:2.0
BEGIN:VEVENT
SUMMARY:Reach out to Unknown Hub about HEDCO-SAMA Partnership SHEBA Accelerator Program
DESCRIPTION:Reach out to them for information about their program.\n\nDescription: Provides forgivable loans up to $50,000 at 0% interest to minority- and women-owned small businesses that have completed an accelerator, supporting financial recovery and growth throughout the state.\n\n- Phone: (860) 527-1301\n- Email: itzelm@hedcoinc.com\n- Source: https://founder-nav.com/programs/recvEvf8yMjOHMDrv\n\n---\nBrought to you by Founder Nav, helping entrepreneurs navigate the entrepreneurial ecosystem.
DTSTART:20260425T100008Z
DTEND:20260425T103008Z
END:VEVENT
END:VCALENDAR