BEGIN:VCALENDAR
VERSION:2.0
BEGIN:VEVENT
SUMMARY:Reach out to SCORE Capital Corridor  about SCORE Mentoring Program
DESCRIPTION:Reach out to them for information about their program.\n\nDescription: Provides free mentoring, education, and resources to entrepreneurs and small business owners in Northern California, helping them start, grow, and sustain their businesses through workshops, counseling, and networking opportunities.\n\n- Phone: (800) 634-0245\n- Source: https://founder-nav.com/programs/recvEo2P4GPqmXzYC\n\n---\nBrought to you by Founder Nav, helping entrepreneurs navigate the entrepreneurial ecosystem.
DTSTART:20260425T100019Z
DTEND:20260425T103019Z
END:VEVENT
END:VCALENDAR