BEGIN:VCALENDAR
VERSION:2.0
BEGIN:VEVENT
SUMMARY:Reach out to ABTech Business College about Business Incubation
DESCRIPTION:Reach out to them for information about their program.\n\nDescription: The purpose of the Business Incubation program is to create an atmosphere that encourages the development of businesses that promise a public or private good, have the potential to create single or multiple additional jobs and contribute to the economic development of the region once formally established. Multiple types of space are available to both startup and existing businesses.\n\n- Phone: (828) 398-7900\n- Email: info@abtech.edu\n- Source: https://founder-nav.com/programs/recv4eB2Xp04HDLL2\n\n---\nBrought to you by Founder Nav, helping entrepreneurs navigate the entrepreneurial ecosystem.
DTSTART:20260420T100052Z
DTEND:20260420T103052Z
END:VEVENT
END:VCALENDAR