BEGIN:VCALENDAR
VERSION:2.0
BEGIN:VEVENT
SUMMARY:Reach out to Mockingbird Incubator about Mockingbird Incubator Program
DESCRIPTION:Reach out to them for information about their program.\n\nDescription: An 8-week online program that helps social impact organizations launch as nonprofit entities. Held on Fridays 10am–1pm PST, with a modest $600 fee (scholarships available). Primarily for US 501(c)(3) organizations.\n\n- Email: info@mockingbirdincubator.com\n- Source: https://founder-nav.com/programs/recuu4UzJi1995mos\n\n---\nBrought to you by Founder Nav, helping entrepreneurs navigate the entrepreneurial ecosystem.
DTSTART:20260425T100057Z
DTEND:20260425T103057Z
END:VEVENT
END:VCALENDAR