BEGIN:VCALENDAR
VERSION:2.0
BEGIN:VEVENT
SUMMARY:Reach out to Nehemiah GATEWAY CDC about Small Business Counseling & Entrepreneurship Program
DESCRIPTION:Reach out to them for information about their program.\n\nDescription: Free business support program for low-to-moderate income entrepreneurs in Delaware, offering counseling, business planning, tax prep, and financing access.\n\n- Phone: (302) 655-0803\n- Source: https://founder-nav.com/programs/recuqTeufR5lmoHPj\n\n---\nBrought to you by Founder Nav, helping entrepreneurs navigate the entrepreneurial ecosystem.
DTSTART:20260425T100040Z
DTEND:20260425T103040Z
END:VEVENT
END:VCALENDAR