BEGIN:VCALENDAR
VERSION:2.0
BEGIN:VEVENT
SUMMARY:Reach out to Latino Economic Development Center Baltimore about InBusiness Small Business Training & Coaching (Baltimore)
DESCRIPTION:Reach out to them for information about their program.\n\nDescription: Bilingual (English/Spanish) workshops and one-on-one coaching for small business owners covering business planning, financial projections, and marketing strategies. Offered at the Baltimore location: Impact Hub, 10 E North Ave, Baltimore, MD. Delivered by LEDC, a CDFI-certified and SBA microlender serving Latino and immigrant entrepreneurs.\n\n- Phone: (202) 540-7400\n- Source: https://founder-nav.com/programs/reculZRFSclyzCQeu\n\n---\nBrought to you by Founder Nav, helping entrepreneurs navigate the entrepreneurial ecosystem.
DTSTART:20260425T100036Z
DTEND:20260425T103036Z
END:VEVENT
END:VCALENDAR