BEGIN:VCALENDAR
VERSION:2.0
BEGIN:VEVENT
SUMMARY:Reach out to North Central Iowa SBDC  about Practical Business Training Workshops
DESCRIPTION:Reach out to them for information about their program.\n\nDescription: Affordable practical business training workshops for North Central Iowa entrepreneurs covering business planning, marketing, finance, and operations.\n\n- Phone: (515) 574-1995\n- Email: case_k@iowacentral.edu\n- Source: https://founder-nav.com/programs/recuZjviMqGgd4KNt\n\n---\nBrought to you by Founder Nav, helping entrepreneurs navigate the entrepreneurial ecosystem.
DTSTART:20260425T100026Z
DTEND:20260425T103026Z
END:VEVENT
END:VCALENDAR