BEGIN:VCALENDAR
VERSION:2.0
BEGIN:VEVENT
SUMMARY:Reach out to BioConnect Iowa about HighTech Connect Iowa
DESCRIPTION:Reach out to them for information about their program.\n\nDescription: Resource connection service linking Iowa high-tech entrepreneurs with relevant programs, funding sources, mentors, and support organizations across the state.\n\n- Email: sbrody@bioconnectiowa.org\n- Source: https://founder-nav.com/programs/recuUw5FZVt1Eo3uU\n\n---\nBrought to you by Founder Nav, helping entrepreneurs navigate the entrepreneurial ecosystem.
DTSTART:20260425T100024Z
DTEND:20260425T103024Z
END:VEVENT
END:VCALENDAR