BEGIN:VCALENDAR
VERSION:2.0
BEGIN:VEVENT
SUMMARY:Reach out to StartUp Downeast about StartUp Downeast
DESCRIPTION:Reach out to them for information about their program.\n\nDescription: A coaching and business-development program for Washington County residents eligible for SNAP Employment & Training, offering up to 2 years of support toward business ownership or self-employment.\n\n- Phone: (207) 259-0041\n- Source: https://founder-nav.com/programs/recuTDiB81WgvLdWZ\n\n---\nBrought to you by Founder Nav, helping entrepreneurs navigate the entrepreneurial ecosystem.
DTSTART:20260425T100043Z
DTEND:20260425T103043Z
END:VEVENT
END:VCALENDAR