BEGIN:VCALENDAR
VERSION:2.0
BEGIN:VEVENT
SUMMARY:Reach out to  MERGE North Liberty CoLab about Venture School
DESCRIPTION:Reach out to them for information about their program.\n\nDescription: 7-week entrepreneurial training program using NSF I-Corps Lean LaunchPad methodology, helping high-potential startups validate business models through customer discovery and market experimentation.\n\n- Email: info@icadgroup.com\n- Source: https://founder-nav.com/programs/recuPjuoLTOA4hebO\n\n---\nBrought to you by Founder Nav, helping entrepreneurs navigate the entrepreneurial ecosystem.
DTSTART:20260425T100043Z
DTEND:20260425T103043Z
END:VEVENT
END:VCALENDAR