BEGIN:VCALENDAR
VERSION:2.0
BEGIN:VEVENT
SUMMARY:Reach out to Greater New Haven Business & Professional Association about Minority Business Incubator
DESCRIPTION:Reach out to them for information about their program.\n\nDescription: Provides minority entrepreneurs with mentorship, access to state-of-the-art facilities, and a supportive environment to help startups and existing businesses grow, innovate, and connect within a vibrant business community in New Haven.\n\n- Phone: (203) 562-2193\n- Email: info1.gnhbpa@gmail.com\n- Source: https://founder-nav.com/programs/recuPPzbksWItrudO\n\n---\nBrought to you by Founder Nav, helping entrepreneurs navigate the entrepreneurial ecosystem.
DTSTART:20260425T100034Z
DTEND:20260425T103034Z
END:VEVENT
END:VCALENDAR