BEGIN:VCALENDAR
VERSION:2.0
BEGIN:VEVENT
SUMMARY:Reach out to Unknown Hub about Leadership CDA Program
DESCRIPTION:Reach out to them for information about their program.\n\nDescription: A year-long leadership development program by the Coeur d'Alene Regional Chamber providing access to community leaders across key industries through tours, case studies, and interactive exercises.\n\n- Phone: (208) 664-3194\n- Email: connect@cdachamber.com\n- Source: https://founder-nav.com/programs/recuHiXJXtfveblOi\n\n---\nBrought to you by Founder Nav, helping entrepreneurs navigate the entrepreneurial ecosystem.
DTSTART:20260425T100009Z
DTEND:20260425T103009Z
END:VEVENT
END:VCALENDAR