BEGIN:VCALENDAR
VERSION:2.0
BEGIN:VEVENT
SUMMARY:Reach out to Prospera about Entrepreneur Fellowship
DESCRIPTION:Reach out to them for information about their program.\n\nDescription: Accelerates Latina immigrant-led cooperative businesses through seed funding, tailored support, leadership coaching, and business incubation, helping founders overcome barriers and dedicate time to growing ventures that benefit their communities and create economic opportunities.\n\n- Phone: (510) 695-2269\n- Email: maria@prosperacoops.org\n- Source: https://founder-nav.com/programs/recuDXsU5ceOrllPG\n\n---\nBrought to you by Founder Nav, helping entrepreneurs navigate the entrepreneurial ecosystem.
DTSTART:20260425T100009Z
DTEND:20260425T103009Z
END:VEVENT
END:VCALENDAR