BEGIN:VCALENDAR
VERSION:2.0
BEGIN:VEVENT
SUMMARY:Reach out to Unknown Hub about MBE/DBE Construction Bootcamp
DESCRIPTION:Reach out to them for information about their program.\n\nDescription: Offers business education, networking, and resources for small contractors, covering topics like branding, certification, government contracting, bidding, and access to capital to help participants grow and succeed in the construction industry.\n\n- Phone: (860) 882-0675\n- Source: https://founder-nav.com/programs/recuCgOJBFNY6bZ0W\n\n---\nBrought to you by Founder Nav, helping entrepreneurs navigate the entrepreneurial ecosystem.
DTSTART:20260425T100004Z
DTEND:20260425T103004Z
END:VEVENT
END:VCALENDAR