BEGIN:VCALENDAR
VERSION:2.0
BEGIN:VEVENT
SUMMARY:Reach out to NIACC Pappajohn Entrepreneurial Center about Entrepreneurship Essentials Workshop Series
DESCRIPTION:Reach out to them for information about their program.\n\nDescription: Workshop series covering essential entrepreneurship topics to help entrepreneurs start and grow businesses in the North Iowa region.\n\n- Phone: (641) 422-4111\n- Email: pappajohn@niacc.edu\n- Source: https://founder-nav.com/programs/rectyHiFJFpHM9ZzB\n\n---\nBrought to you by Founder Nav, helping entrepreneurs navigate the entrepreneurial ecosystem.
DTSTART:20260425T100025Z
DTEND:20260425T103025Z
END:VEVENT
END:VCALENDAR