BEGIN:VCALENDAR
VERSION:2.0
BEGIN:VEVENT
SUMMARY:Reach out to ChicoSTART about ChicoSTART Incubator & Co-working
DESCRIPTION:Reach out to them for information about their program.\n\nDescription: Northern California's premier startup incubator and co-working space at 411 Main Street, Chico. A CA-GoBiz Accelerate California designated Innovation Hub serving entrepreneurs from survive to thrive. Provides co-working memberships (from $220/month for desk space, $59/month for virtual), mentorship from seasoned entrepreneurs, monthly workshops, tech talks, idea jams, and access to a robust network of investors and resource partners. Partners include Chico State, City of Chico, and Tri Counties Bank.\n\n- Phone: (530) 924-5100\n- Email: info@chicostart.com\n- Source: https://founder-nav.com/programs/rectyA1oXAqGTibY6\n\n---\nBrought to you by Founder Nav, helping entrepreneurs navigate the entrepreneurial ecosystem.
DTSTART:20260425T100025Z
DTEND:20260425T103025Z
END:VEVENT
END:VCALENDAR