BEGIN:VCALENDAR
VERSION:2.0
BEGIN:VEVENT
SUMMARY:Reach out to Drake Business Clinic (Drake University) about Business Clinic Workshop Series
DESCRIPTION:Reach out to them for information about their program.\n\nDescription: Free workshop series covering key business topics for small business owners and entrepreneurs, with integrated personal financial counseling through Polk County FEC.\n\n- Email: drakebizclinic@drake.edu\n- Source: https://founder-nav.com/programs/rectxdmRGMg5RhAzL\n\n---\nBrought to you by Founder Nav, helping entrepreneurs navigate the entrepreneurial ecosystem.
DTSTART:20260425T100037Z
DTEND:20260425T103037Z
END:VEVENT
END:VCALENDAR