BEGIN:VCALENDAR
VERSION:2.0
BEGIN:VEVENT
SUMMARY:Reach out to Cortex Innovation District about SQ1 Enrichment Programs
DESCRIPTION:Reach out to them for information about their program.\n\nDescription: Offers additional support beyond Ignite and Bootcamp and are designed to nurture and grow entrepreneurial talent in the St. Louis region. This includes expert speaker sessions, workshops, legal advice, and opportunities to present business ideas to live audiences.\n\n- Phone: (314) 531-4500\n- Email: info@cortexstl.org\n- Source: https://founder-nav.com/programs/rectxGyrCSVE19m9I\n\n---\nBrought to you by Founder Nav, helping entrepreneurs navigate the entrepreneurial ecosystem.
DTSTART:20260425T100032Z
DTEND:20260425T103032Z
END:VEVENT
END:VCALENDAR