BEGIN:VCALENDAR
VERSION:2.0
BEGIN:VEVENT
SUMMARY:Reach out to Owen County Chamber of Commerce about Build Your Business
DESCRIPTION:Reach out to them for information about their program.\n\nDescription: Orange County offers an array of resources to help you launch and grow your business. Our team at OCEDP will connect you with everything from funding options to industry-specific expertise. Every town within Orange County has its unique offerings, and we’re here to help you navigate the best opportunities for your business.\n\n- Phone: (812) 936-3388\n- Email: https://www.ocedp.com/build-your-business\n- Source: https://founder-nav.com/programs/rectt617iShts0LId\n\n---\nBrought to you by Founder Nav, helping entrepreneurs navigate the entrepreneurial ecosystem.
DTSTART:20260426T100053Z
DTEND:20260426T103053Z
END:VEVENT
END:VCALENDAR