BEGIN:VCALENDAR
VERSION:2.0
BEGIN:VEVENT
SUMMARY:Reach out to Hutch about Hutch GovTech Incubator
DESCRIPTION:Reach out to them for information about their program.\n\nDescription: A 9-month intensive program by the Fearless Institute designed for BIPOC and women entrepreneurs seeking to build or grow digital services businesses serving government clients. Participants receive 366+ hours of education, mentorship, and hands-on support. The program has produced 20+ graduates who have collectively secured $13.9M in government contracts and created 68 jobs. Located at 8 Market Place, Baltimore.\n\n- Phone: (410) 394-9600\n- Email: hutch@fearlessinstitute.org\n- Source: https://founder-nav.com/programs/rectgDuppoMfuOd0o\n\n---\nBrought to you by Founder Nav, helping entrepreneurs navigate the entrepreneurial ecosystem.
DTSTART:20260425T100045Z
DTEND:20260425T103045Z
END:VEVENT
END:VCALENDAR