BEGIN:VCALENDAR
VERSION:2.0
BEGIN:VEVENT
SUMMARY:Reach out to ISU Research Park about Entrepreneurial Mentorship & Peer Learning Network
DESCRIPTION:Reach out to them for information about their program.\n\nDescription: Mentorship and peer learning network at ISU Research Park connecting startups with experienced entrepreneurs, ISU Pappajohn Center resources, and funding guidance.\n\n- Email: petehong@iastate.edu\n- Source: https://founder-nav.com/programs/rectaaxgoZaG7d5Ca\n\n---\nBrought to you by Founder Nav, helping entrepreneurs navigate the entrepreneurial ecosystem.
DTSTART:20260425T100020Z
DTEND:20260425T103020Z
END:VEVENT
END:VCALENDAR