BEGIN:VCALENDAR
VERSION:2.0
BEGIN:VEVENT
SUMMARY:Reach out to California Capital APEX Accelerator about APEX Accelerator Government Contracting Assistance
DESCRIPTION:Reach out to them for information about their program.\n\nDescription: Provides no-cost counseling, training, and resources to help businesses secure and perform on government contracts, including assistance with certifications, bid opportunities, proposal preparation, and subcontracting, serving multiple counties in Northern California.\n\n- Phone: (916) 442-1729\n- Email: ptavernia@cacapital.org\n- Source: https://founder-nav.com/programs/rectaaE8lQ6Tux7k2\n\n---\nBrought to you by Founder Nav, helping entrepreneurs navigate the entrepreneurial ecosystem.
DTSTART:20260425T100049Z
DTEND:20260425T103049Z
END:VEVENT
END:VCALENDAR