BEGIN:VCALENDAR
VERSION:2.0
BEGIN:VEVENT
SUMMARY:Reach out to Greater Norwalk Chamber about Norwalk Leadership Institute
DESCRIPTION:Reach out to them for information about their program.\n\nDescription: Offers professional development through interactive sessions and a community-focused group project, enhancing leadership, communication, and problem-solving skills while connecting participants with local leaders and key issues to prepare them for leadership roles in business and the community.\n\n- Phone: (203) 866-2521\n- Source: https://founder-nav.com/programs/rectXUrmmVAasQZM6\n\n---\nBrought to you by Founder Nav, helping entrepreneurs navigate the entrepreneurial ecosystem.
DTSTART:20260425T100010Z
DTEND:20260425T103010Z
END:VEVENT
END:VCALENDAR