BEGIN:VCALENDAR
VERSION:2.0
BEGIN:VEVENT
SUMMARY:Reach out to RevHub OC (The Orange County Center for Innovation & Social Enterprise) about RevHub Social Enterprise Incubator
DESCRIPTION:Reach out to them for information about their program.\n\nDescription: Orange County's first incubator and catalytic capital fund for social enterprises. A 6-month program guiding for-profit social impact ventures from idea to launch stage, with access to RevHub's ecosystem of investors, advisors, and partners.\n\n- Source: https://founder-nav.com/programs/rectRiciUDBB0rNid\n\n---\nBrought to you by Founder Nav, helping entrepreneurs navigate the entrepreneurial ecosystem.
DTSTART:20260425T100036Z
DTEND:20260425T103036Z
END:VEVENT
END:VCALENDAR