BEGIN:VCALENDAR
VERSION:2.0
BEGIN:VEVENT
SUMMARY:Reach out to Black Economic Leadership League of Rock Hill about Kauffman FastTrac
DESCRIPTION:Reach out to them for information about their program.\n\nDescription: Kauffman FastTrac teaches aspiring, early-stage entrepreneurs how to launch their businesses. Entrepreneurs gain comprehensive knowledge and skills for venture creation and growth.\n\n- Source: https://founder-nav.com/programs/rectRPOXhB1nuqIWS\n\n---\nBrought to you by Founder Nav, helping entrepreneurs navigate the entrepreneurial ecosystem.
DTSTART:20260425T100057Z
DTEND:20260425T103057Z
END:VEVENT
END:VCALENDAR