BEGIN:VCALENDAR
VERSION:2.0
BEGIN:VEVENT
SUMMARY:Reach out to Fairfield County Story Lab about Business Incubator for Writers & Creatives
DESCRIPTION:Reach out to them for information about their program.\n\nDescription: Provides a shared workspace and business incubator for writers and creatives, offering professional community, workshops, events, and amenities to foster productivity, creativity, and business growth in a supportive environment.\n\n- Phone: (203) 374-8343\n- Email: info@fcstorylab.com\n- Source: https://founder-nav.com/programs/rectOvC9JnZ0WQl4s\n\n---\nBrought to you by Founder Nav, helping entrepreneurs navigate the entrepreneurial ecosystem.
DTSTART:20260425T100012Z
DTEND:20260425T103012Z
END:VEVENT
END:VCALENDAR