BEGIN:VCALENDAR
VERSION:2.0
BEGIN:VEVENT
SUMMARY:Reach out to UConn Innovation about Get Seeded
DESCRIPTION:Reach out to them for information about their program.\n\nDescription: A pitch night program where UConn students present ideas to a peer audience and compete for up to $1,000 in seed funding, mentorship, and potential team-building connections from fellow students.\n\n- Source: https://founder-nav.com/programs/rectC4ST5RBRtxYyX\n\n---\nBrought to you by Founder Nav, helping entrepreneurs navigate the entrepreneurial ecosystem.
DTSTART:20260421T100042Z
DTEND:20260421T103042Z
END:VEVENT
END:VCALENDAR