BEGIN:VCALENDAR
VERSION:2.0
BEGIN:VEVENT
SUMMARY:Reach out to EvoNexus — Irvine Tech Incubator about EvoNexus Irvine Incubator Program
DESCRIPTION:Reach out to them for information about their program.\n\nDescription: A 2-year incubator residency at 101 Academy in Irvine in partnership with UC Irvine, offering milestone-based mentorship for deep tech and tech startups. Only 1% equity fee.\n\n- Email: info@evonexus.org\n- Source: https://founder-nav.com/programs/recsyubX3LwvujdBh\n\n---\nBrought to you by Founder Nav, helping entrepreneurs navigate the entrepreneurial ecosystem.
DTSTART:20260425T100043Z
DTEND:20260425T103043Z
END:VEVENT
END:VCALENDAR