BEGIN:VCALENDAR
VERSION:2.0
BEGIN:VEVENT
SUMMARY:Reach out to TEDCO about Urban Business Innovation Initiative (UBII)
DESCRIPTION:Reach out to them for information about their program.\n\nDescription: A TEDCO program providing free technical and business assistance to underserved early-stage companies in key urban Maryland areas (Baltimore City, Prince George's County, Central Maryland). Experienced Venture Growth Advisors offer one-on-one mentoring and connect entrepreneurs to I-Corps, UBII project funding, the Builder Fund, and other critical resources.\n\n- Phone: (240) 898-4889\n- Email: mtyson@tedcomd.com\n- Source: https://founder-nav.com/programs/recssrhv848LKVT9g\n\n---\nBrought to you by Founder Nav, helping entrepreneurs navigate the entrepreneurial ecosystem.
DTSTART:20260425T100015Z
DTEND:20260425T103015Z
END:VEVENT
END:VCALENDAR