BEGIN:VCALENDAR
VERSION:2.0
BEGIN:VEVENT
SUMMARY:Reach out to Blue Startups about Advisory Track
DESCRIPTION:Reach out to them for information about their program.\n\nDescription: Non-residential advisory program by Blue Startups for startups not ready for or not seeking the full accelerator program. Provides access to Blue Startups' mentor network, workshops, and resources on a flexible basis without the 12-week cohort commitment.\n\n- Phone: (808) 792-4080\n- Email: info@bluestartups.com\n- Source: https://founder-nav.com/programs/recsMfClrHStQKlpb\n\n---\nBrought to you by Founder Nav, helping entrepreneurs navigate the entrepreneurial ecosystem.
DTSTART:20260425T100001Z
DTEND:20260425T103001Z
END:VEVENT
END:VCALENDAR