BEGIN:VCALENDAR
VERSION:2.0
BEGIN:VEVENT
SUMMARY:Reach out to CWI Entrepreneur Lab about Academic Certificate in Entrepreneurship and Small Business Management
DESCRIPTION:Reach out to them for information about their program.\n\nDescription: A formal academic certificate program at College of Western Idaho providing foundational knowledge in entrepreneurship and small business management for students preparing to start or manage a business.\n\n- Source: https://founder-nav.com/programs/recsD6pu7rgWgp8EA\n\n---\nBrought to you by Founder Nav, helping entrepreneurs navigate the entrepreneurial ecosystem.
DTSTART:20260425T100014Z
DTEND:20260425T103014Z
END:VEVENT
END:VCALENDAR