BEGIN:VCALENDAR
VERSION:2.0
BEGIN:VEVENT
SUMMARY:Reach out to Alaska SBDC – Kenai Peninsula  about Alaska SBDC Business Workshops & Training
DESCRIPTION:Reach out to them for information about their program.\n\nDescription: Free and low-cost business workshops covering financial management, marketing, business planning, and more, offered live and on-demand for small business owners across Alaska.\n\n- Source: https://founder-nav.com/programs/recsCKDPRY2WjZFp5\n\n---\nBrought to you by Founder Nav, helping entrepreneurs navigate the entrepreneurial ecosystem.
DTSTART:20260425T100049Z
DTEND:20260425T103049Z
END:VEVENT
END:VCALENDAR