BEGIN:VCALENDAR
VERSION:2.0
BEGIN:VEVENT
SUMMARY:Reach out to Siskiyou Economic Development  about Food Venture Bootcamp
DESCRIPTION:Reach out to them for information about their program.\n\nDescription: Cohort-based training program for emerging food entrepreneurs in Siskiyou County, from cottage producers to small processors. Covers branding, licensing, financial planning, and route-to-market strategies. Supported by the Shasta-Cascade Innovation Hub (IHub) and SBDC one-on-one business counseling.\n\n- Phone: (530) 842-1638\n- Email: quintin@siskiyoucounty.org\n- Source: https://founder-nav.com/programs/recs8tRQTLBqPK9dU\n\n---\nBrought to you by Founder Nav, helping entrepreneurs navigate the entrepreneurial ecosystem.
DTSTART:20260425T100045Z
DTEND:20260425T103045Z
END:VEVENT
END:VCALENDAR