BEGIN:VCALENDAR
VERSION:2.0
BEGIN:VEVENT
SUMMARY:Reach out to Sonoma SBDC about SBDC Business Advising & Mentoring
DESCRIPTION:Reach out to them for information about their program.\n\nDescription: Provides confidential, no-cost business advising, resources, and training to help entrepreneurs and small businesses in Sonoma County start, grow, and succeed at every stage, from launch to expansion or sale.\n\n- Phone: (707) 595-0060\n- Source: https://founder-nav.com/programs/recs13AWbNNz5BzMm\n\n---\nBrought to you by Founder Nav, helping entrepreneurs navigate the entrepreneurial ecosystem.
DTSTART:20260425T100058Z
DTEND:20260425T103058Z
END:VEVENT
END:VCALENDAR