BEGIN:VCALENDAR
VERSION:2.0
BEGIN:VEVENT
SUMMARY:Reach out to Ives Squared about Entrepreneur-in-Residence (EIR) Program
DESCRIPTION:Reach out to them for information about their program.\n\nDescription: A center for innovation and collaboration offering a makerspace, co-working and entrepreneurial resources, skill certifications, digital tools, and events to support business, civic, and creative growth in the New Haven community.\n\n- Phone: (203) 946-8130\n- Email: IvesSquared1@nhfpl.org\n- Source: https://founder-nav.com/programs/recs0lA3lvCeibd5W\n\n---\nBrought to you by Founder Nav, helping entrepreneurs navigate the entrepreneurial ecosystem.
DTSTART:20260425T100052Z
DTEND:20260425T103052Z
END:VEVENT
END:VCALENDAR