BEGIN:VCALENDAR
VERSION:2.0
BEGIN:VEVENT
SUMMARY:Reach out to CIRAS APEX Accelerator (Iowa State University) about One-on-One Government Contracting Counseling
DESCRIPTION:Reach out to them for information about their program.\n\nDescription: Individualized counseling sessions with CIRAS government contracting specialists helping Iowa businesses navigate SAM registration, bid matching, proposal review, and certification programs.\n\n- Phone: (515) 294-3420\n- Email: ciras@iastate.edu\n- Source: https://founder-nav.com/programs/recs0cNuyvQbpkuff\n\n---\nBrought to you by Founder Nav, helping entrepreneurs navigate the entrepreneurial ecosystem.
DTSTART:20260425T100056Z
DTEND:20260425T103056Z
END:VEVENT
END:VCALENDAR