BEGIN:VCALENDAR
VERSION:2.0
BEGIN:VEVENT
SUMMARY:Reach out to Boulder Chamber about Boulder Chamber Business Resources & Training
DESCRIPTION:Reach out to them for information about their program.\n\nDescription: Boulder Chamber of Commerce business support programs including workshops, networking events, advocacy, and connections to resources for businesses and entrepreneurs in the Boulder area.\n\n- Phone: (303) 442-1044\n- Email: info@boulderchamber.com\n- Source: https://founder-nav.com/programs/recrxyB0awbQwCDNQ\n\n---\nBrought to you by Founder Nav, helping entrepreneurs navigate the entrepreneurial ecosystem.
DTSTART:20260425T100042Z
DTEND:20260425T103042Z
END:VEVENT
END:VCALENDAR