BEGIN:VCALENDAR
VERSION:2.0
BEGIN:VEVENT
SUMMARY:Reach out to MERGE CoWork @ 808 about 1 Million Cups Iowa City
DESCRIPTION:Reach out to them for information about their program.\n\nDescription: Free weekly gathering where entrepreneurs present their businesses in a 6-minute pitch and receive structured feedback from a community of peers, mentors, and supporters over coffee.\n\n- Email: merge@greateriowacity.com\n- Source: https://founder-nav.com/programs/recro4TSl5m3Lbzj5\n\n---\nBrought to you by Founder Nav, helping entrepreneurs navigate the entrepreneurial ecosystem.
DTSTART:20260425T100033Z
DTEND:20260425T103033Z
END:VEVENT
END:VCALENDAR