BEGIN:VCALENDAR
VERSION:2.0
BEGIN:VEVENT
SUMMARY:Reach out to Unknown Hub about G2 Summer Launchpad Accelerator
DESCRIPTION:Reach out to them for information about their program.\n\nDescription: Offers wet-lab and office space for technology-focused startups, fostering collaboration between academia and industry, and providing mentorship, educational programs, and access to business resources to support commercialization and entrepreneurial growth.\n\n- Source: https://founder-nav.com/programs/recrlp0mSP0DNrhcT\n\n---\nBrought to you by Founder Nav, helping entrepreneurs navigate the entrepreneurial ecosystem.
DTSTART:20260425T100024Z
DTEND:20260425T103024Z
END:VEVENT
END:VCALENDAR