BEGIN:VCALENDAR
VERSION:2.0
BEGIN:VEVENT
SUMMARY:Reach out to Cleantech San Diego – Southern California Energy Innovation Network (SCEIN) about Southern California Energy Innovation Network (SCEIN)
DESCRIPTION:Reach out to them for information about their program.\n\nDescription: Free incubator for clean energy startups in San Diego, Riverside, San Bernardino, and Imperial counties, funded by the California Energy Commission. Rolling applications. 78 companies served (38 active), with 851 employees, 527 patents, and $672M+ raised. 82% C-Suite diversity. Connects startups with workshops, mentorship, customer connections, investor introductions, grant assistance, and pilot project hosting.\n\n- Phone: (858) 568-8010\n- Email: zacd@cleantechsandiego.org\n- Source: https://founder-nav.com/programs/recrhaSXvK2gEMx5Q\n\n---\nBrought to you by Founder Nav, helping entrepreneurs navigate the entrepreneurial ecosystem.
DTSTART:20260425T100053Z
DTEND:20260425T103053Z
END:VEVENT
END:VCALENDAR