BEGIN:VCALENDAR
VERSION:2.0
BEGIN:VEVENT
SUMMARY:Reach out to Berkeley SkyDeck Accelerator about Berkeley SkyDeck Pad-13
DESCRIPTION:Reach out to them for information about their program.\n\nDescription: 4-month incubator at UC Berkeley for 60–80 early-stage teams per cohort offering co-working space, mentorship, and ecosystem access without guaranteed investment.\n\n- Email: SkyDeck@Berkeley.edu\n- Source: https://founder-nav.com/programs/recrhHaYLaxcVcSUB\n\n---\nBrought to you by Founder Nav, helping entrepreneurs navigate the entrepreneurial ecosystem.
DTSTART:20260425T100020Z
DTEND:20260425T103020Z
END:VEVENT
END:VCALENDAR