BEGIN:VCALENDAR
VERSION:2.0
BEGIN:VEVENT
SUMMARY:Reach out to Maine Development Foundation about Policy Leaders Academy
DESCRIPTION:Reach out to them for information about their program.\n\nDescription: A nonpartisan experiential training program for Maine legislators covering the state's economy, growth drivers, and how policy decisions affect business and investment.\n\n- Phone: (207) 622-6345\n- Email: jkearce@mdf.org\n- Source: https://founder-nav.com/programs/recrbMHz6hcYUtrt1\n\n---\nBrought to you by Founder Nav, helping entrepreneurs navigate the entrepreneurial ecosystem.
DTSTART:20260425T100013Z
DTEND:20260425T103013Z
END:VEVENT
END:VCALENDAR