BEGIN:VCALENDAR
VERSION:2.0
BEGIN:VEVENT
SUMMARY:Reach out to UC San Diego Office of Innovation & Commercialization about The Basement (Student Incubator)
DESCRIPTION:Reach out to them for information about their program.\n\nDescription: Provides students with a creative space, mentorship, and resources to develop startups, social ventures, or workforce skills through hands-on programs, prototyping funds, and collaboration opportunities across multiple disciplines and sectors.\n\n- Phone: (858) 534-2230\n- Email: gsands@ucsd.edu\n- Source: https://founder-nav.com/programs/recrUN8XFQCSCQ8kp\n\n---\nBrought to you by Founder Nav, helping entrepreneurs navigate the entrepreneurial ecosystem.
DTSTART:20260425T100040Z
DTEND:20260425T103040Z
END:VEVENT
END:VCALENDAR