BEGIN:VCALENDAR
VERSION:2.0
BEGIN:VEVENT
SUMMARY:Reach out to Escape Velocity about Advanced Accelerator Program
DESCRIPTION:Reach out to them for information about their program.\n\nDescription: Supports early-stage startups in AI, health, advanced manufacturing, fintech, and emerging tech with tailored resources, mentorship, industry connections, and performance-based seed investment to accelerate growth and help founders achieve critical business milestones.\n\n- Email: info@escapevelocity.us\n- Source: https://founder-nav.com/programs/recrORNP4lgjpVbmX\n\n---\nBrought to you by Founder Nav, helping entrepreneurs navigate the entrepreneurial ecosystem.
DTSTART:20260425T100006Z
DTEND:20260425T103006Z
END:VEVENT
END:VCALENDAR