BEGIN:VCALENDAR
VERSION:2.0
BEGIN:VEVENT
SUMMARY:Reach out to Free Ventures about Free Ventures Incubator Program
DESCRIPTION:Reach out to them for information about their program.\n\nDescription: UC Berkeley's only student-run nonprofit pre-seed incubator, offering a 3-month semester-long program for undergraduate and graduate student founders. Provides individualized mentorship, investor connections, and 2 CS course units—with no equity taken.\n\n- Email: alexander@freeventures.org\n- Source: https://founder-nav.com/programs/recrL5x18laFfRNnl\n\n---\nBrought to you by Founder Nav, helping entrepreneurs navigate the entrepreneurial ecosystem.
DTSTART:20260425T100035Z
DTEND:20260425T103035Z
END:VEVENT
END:VCALENDAR